Package: DFplyr Version: 1.2.0 Command: /Library/Frameworks/R.framework/Resources/bin/R CMD INSTALL DFplyr StartedAt: 2025-04-21 15:06:27 -0400 (Mon, 21 Apr 2025) EndedAt: 2025-04-21 15:06:31 -0400 (Mon, 21 Apr 2025) EllapsedTime: 3.4 seconds RetCode: 0 Status: OK