Package: DFplyr Version: 1.2.0 Command: /Library/Frameworks/R.framework/Resources/bin/R CMD build --keep-empty-dirs --no-resave-data DFplyr StartedAt: 2025-04-21 16:10:33 -0400 (Mon, 21 Apr 2025) EndedAt: 2025-04-21 16:10:41 -0400 (Mon, 21 Apr 2025) EllapsedTime: 8.1 seconds RetCode: 0 Status: OK PackageFile: DFplyr_1.2.0.tar.gz PackageFileSize: 393.7 KiB