Package: DEsubs Version: 1.34.0 Command: /home/biocbuild/bbs-3.21-bioc/R/bin/R CMD INSTALL DEsubs StartedAt: 2025-09-21 15:22:54 -0400 (Sun, 21 Sep 2025) EndedAt: 2025-09-21 15:23:22 -0400 (Sun, 21 Sep 2025) EllapsedTime: 28.2 seconds RetCode: 0 Status: OK