Package: DEsubs Version: 1.34.0 Command: /home/biocbuild/bbs-3.21-bioc/R/bin/R CMD build --keep-empty-dirs --no-resave-data DEsubs StartedAt: 2025-10-08 17:12:19 -0400 (Wed, 08 Oct 2025) EndedAt: 2025-10-08 17:13:22 -0400 (Wed, 08 Oct 2025) EllapsedTime: 63.1 seconds RetCode: 0 Status: OK PackageFile: DEsubs_1.34.0.tar.gz PackageFileSize: 3.973 MiB