Package: DEsingle Version: 1.26.0 Command: /home/biocbuild/bbs-3.20-bioc/R/bin/R CMD INSTALL DEsingle StartedAt: 2025-01-30 15:46:55 -0500 (Thu, 30 Jan 2025) EndedAt: 2025-01-30 15:47:02 -0500 (Thu, 30 Jan 2025) EllapsedTime: 7.4 seconds RetCode: 0 Status: OK