Package: DEsingle Version: 1.26.0 Command: /Library/Frameworks/R.framework/Resources/bin/R CMD INSTALL DEsingle StartedAt: 2025-01-30 17:27:19 -0500 (Thu, 30 Jan 2025) EndedAt: 2025-01-30 17:27:28 -0500 (Thu, 30 Jan 2025) EllapsedTime: 9.3 seconds RetCode: 0 Status: OK