Package: DEsingle Version: 1.26.0 Command: /Library/Frameworks/R.framework/Resources/bin/R CMD build --keep-empty-dirs --no-resave-data DEsingle StartedAt: 2025-02-03 22:27:44 -0500 (Mon, 03 Feb 2025) EndedAt: 2025-02-03 22:28:00 -0500 (Mon, 03 Feb 2025) EllapsedTime: 16.1 seconds RetCode: 0 Status: OK PackageFile: DEsingle_1.26.0.tar.gz PackageFileSize: 380.4 KiB