Package: DEqMS Version: 1.26.0 Command: rm -rf DEqMS.buildbin-libdir && mkdir DEqMS.buildbin-libdir && /Users/biocbuild/BBS/utils/build-universal.sh DEqMS_1.26.0.tar.gz /Library/Frameworks/R.framework/Resources/bin/R DEqMS.buildbin-libdir StartedAt: 2025-05-02 13:00:02 -0400 (Fri, 02 May 2025) EndedAt: 2025-05-02 13:03:58 -0400 (Fri, 02 May 2025) EllapsedTime: 235.7 seconds RetCode: 0 Status: OK PackageFile: DEqMS_1.26.0.tgz PackageFileSize: 2.243 MiB