Package: DEqMS Version: 1.26.0 Command: /Library/Frameworks/R.framework/Resources/bin/R CMD build --keep-empty-dirs --no-resave-data DEqMS StartedAt: 2025-04-21 16:34:33 -0400 (Mon, 21 Apr 2025) EndedAt: 2025-04-21 16:35:59 -0400 (Mon, 21 Apr 2025) EllapsedTime: 85.5 seconds RetCode: 0 Status: OK PackageFile: DEqMS_1.26.0.tar.gz PackageFileSize: 2.304 MiB