Package: DEXSeq Version: 1.52.0 Command: /home/biocbuild/R/R/bin/R CMD INSTALL DEXSeq StartedAt: 2025-01-30 20:55:49 -0000 (Thu, 30 Jan 2025) EndedAt: 2025-01-30 20:56:34 -0000 (Thu, 30 Jan 2025) EllapsedTime: 45.0 seconds RetCode: 0 Status: OK