Package: DEXSeq Version: 1.52.0 Command: /home/biocbuild/R/R/bin/R CMD build --keep-empty-dirs --no-resave-data DEXSeq StartedAt: 2025-01-30 23:09:27 -0000 (Thu, 30 Jan 2025) EndedAt: 2025-01-30 23:11:50 -0000 (Thu, 30 Jan 2025) EllapsedTime: 143.0 seconds RetCode: 0 Status: OK PackageFile: DEXSeq_1.52.0.tar.gz PackageFileSize: 897.9 KiB