Package: DEXSeq Version: 1.54.1 Command: chmod a+r DEXSeq -R && E:\biocbuild\bbs-3.21-bioc\R\bin\R.exe CMD build --keep-empty-dirs --no-resave-data DEXSeq StartedAt: 2025-08-14 18:36:03 -0400 (Thu, 14 Aug 2025) EndedAt: 2025-08-14 18:39:17 -0400 (Thu, 14 Aug 2025) EllapsedTime: 194.1 seconds RetCode: 0 Status: OK PackageFile: DEXSeq_1.54.1.tar.gz PackageFileSize: 581.2 KiB