Package: DEXSeq Version: 1.54.0 Maintainer: Alejandro Reyes MaintainerEmail: alejandro.reyes.ds at gmail.com git_url: https://git.bioconductor.org/packages/DEXSeq git_branch: RELEASE_3_21 git_last_commit: 751dc94 git_last_commit_date: 2025-04-15 10:08:49 -0400 (Tue, 15 Apr 2025)