Package: DESpace Version: 2.0.0 Command: /Library/Frameworks/R.framework/Resources/bin/R CMD INSTALL DESpace StartedAt: 2025-04-21 15:13:46 -0400 (Mon, 21 Apr 2025) EndedAt: 2025-04-21 15:14:02 -0400 (Mon, 21 Apr 2025) EllapsedTime: 16.5 seconds RetCode: 0 Status: OK