Package: DESpace Version: 2.0.0 Command: /Library/Frameworks/R.framework/Resources/bin/R CMD check --install=check:DESpace.install-out.txt --library=/Library/Frameworks/R.framework/Resources/library --no-vignettes --timings DESpace_2.0.0.tar.gz StartedAt: 2025-04-21 19:05:33 -0400 (Mon, 21 Apr 2025) EndedAt: 2025-04-21 19:08:05 -0400 (Mon, 21 Apr 2025) EllapsedTime: 151.7 seconds RetCode: 0 Status: OK CheckDir: DESpace.Rcheck Warnings: 0