Package: DESeq2 Version: 1.48.1 Command: E:\biocbuild\bbs-3.21-bioc\R\bin\R.exe CMD INSTALL DESeq2 StartedAt: 2025-08-14 16:06:36 -0400 (Thu, 14 Aug 2025) EndedAt: 2025-08-14 16:11:41 -0400 (Thu, 14 Aug 2025) EllapsedTime: 304.2 seconds RetCode: 0 Status: OK