Package: DESeq2 Version: 1.48.0 Command: /Library/Frameworks/R.framework/Resources/bin/R CMD build --keep-empty-dirs --no-resave-data DESeq2 StartedAt: 2025-04-21 16:35:20 -0400 (Mon, 21 Apr 2025) EndedAt: 2025-04-21 16:37:43 -0400 (Mon, 21 Apr 2025) EllapsedTime: 142.6 seconds RetCode: 0 Status: OK PackageFile: DESeq2_1.48.0.tar.gz PackageFileSize: 3.458 MiB