Package: DESeq2 Version: 1.48.0 Command: rm -rf DESeq2.buildbin-libdir && mkdir DESeq2.buildbin-libdir && /Users/biocbuild/BBS/utils/build-universal.sh DESeq2_1.48.0.tar.gz /Library/Frameworks/R.framework/Resources/bin/R DESeq2.buildbin-libdir StartedAt: 2025-04-22 00:42:21 -0400 (Tue, 22 Apr 2025) EndedAt: 2025-04-22 00:43:25 -0400 (Tue, 22 Apr 2025) EllapsedTime: 63.7 seconds RetCode: 0 Status: OK PackageFile: DESeq2_1.48.0.tgz PackageFileSize: 4.089 MiB