Package: DESeq2 Version: 1.48.0 Command: /Library/Frameworks/R.framework/Resources/bin/R CMD INSTALL DESeq2 StartedAt: 2025-05-05 16:13:26 -0400 (Mon, 05 May 2025) EndedAt: 2025-05-05 16:14:15 -0400 (Mon, 05 May 2025) EllapsedTime: 49.1 seconds RetCode: 0 Status: OK