Package: DEScan2 Version: 1.26.0 Command: /home/biocbuild/R/R/bin/R CMD build --keep-empty-dirs --no-resave-data DEScan2 StartedAt: 2025-01-30 23:08:55 -0000 (Thu, 30 Jan 2025) EndedAt: 2025-01-30 23:10:57 -0000 (Thu, 30 Jan 2025) EllapsedTime: 122.0 seconds RetCode: 0 Status: OK PackageFile: DEScan2_1.26.0.tar.gz PackageFileSize: 2.443 MiB