Package: DEGreport Version: 1.44.0 Command: /Library/Frameworks/R.framework/Resources/bin/R CMD INSTALL DEGreport StartedAt: 2025-09-29 15:59:06 -0400 (Mon, 29 Sep 2025) EndedAt: 2025-09-29 16:00:14 -0400 (Mon, 29 Sep 2025) EllapsedTime: 68.0 seconds RetCode: 0 Status: OK