Package: DEGreport Version: 1.44.0 Command: /Library/Frameworks/R.framework/Resources/bin/R CMD build --keep-empty-dirs --no-resave-data DEGreport StartedAt: 2025-05-01 22:32:03 -0400 (Thu, 01 May 2025) EndedAt: 2025-05-01 22:33:22 -0400 (Thu, 01 May 2025) EllapsedTime: 78.4 seconds RetCode: 0 Status: OK PackageFile: DEGreport_1.44.0.tar.gz PackageFileSize: 19.72 MiB