Package: DEGreport Version: 1.44.0 Maintainer: Lorena Pantano MaintainerEmail: lorena.pantano at gmail.com git_url: https://git.bioconductor.org/packages/DEGreport git_branch: RELEASE_3_21 git_last_commit: 2e68385 git_last_commit_date: 2025-04-15 10:31:54 -0400 (Tue, 15 Apr 2025)