Package: DCATS Version: 1.4.0 Command: rm -rf DCATS.buildbin-libdir && mkdir DCATS.buildbin-libdir && /Users/biocbuild/BBS/utils/build-universal.sh DCATS_1.4.0.tar.gz /Library/Frameworks/R.framework/Resources/bin/R DCATS.buildbin-libdir StartedAt: 2025-01-03 13:10:03 -0500 (Fri, 03 Jan 2025) EndedAt: 2025-01-03 13:10:19 -0500 (Fri, 03 Jan 2025) EllapsedTime: 16.0 seconds RetCode: 0 Status: OK PackageFile: DCATS_1.4.0.tgz PackageFileSize: 2.866 MiB