Package: DAPAR Version: 1.40.0 Command: /Library/Frameworks/R.framework/Resources/bin/R CMD check --install=check:DAPAR.install-out.txt --library=/Library/Frameworks/R.framework/Resources/library --no-vignettes --timings DAPAR_1.40.0.tar.gz StartedAt: 2025-05-06 17:10:34 -0400 (Tue, 06 May 2025) EndedAt: 2025-05-06 17:20:35 -0400 (Tue, 06 May 2025) EllapsedTime: 601.6 seconds RetCode: 0 Status: OK CheckDir: DAPAR.Rcheck Warnings: 0