Package: DAMEfinder Version: 1.20.0 Command: /home/biocbuild/bbs-3.21-bioc/R/bin/R CMD build --keep-empty-dirs --no-resave-data DAMEfinder StartedAt: 2025-09-28 17:18:05 -0400 (Sun, 28 Sep 2025) EndedAt: 2025-09-28 17:20:16 -0400 (Sun, 28 Sep 2025) EllapsedTime: 131.1 seconds RetCode: 0 Status: OK PackageFile: DAMEfinder_1.20.0.tar.gz PackageFileSize: 4.698 MiB