Package: CytoPipelineGUI Version: 1.8.0 Command: /home/biocbuild/R/R/bin/R CMD INSTALL CytoPipelineGUI StartedAt: 2025-11-20 22:26:34 -0000 (Thu, 20 Nov 2025) EndedAt: 2025-11-20 22:26:53 -0000 (Thu, 20 Nov 2025) EllapsedTime: 18.9 seconds RetCode: 0 Status: OK