Package: CytoPipelineGUI Version: 1.8.0 Command: /home/biocbuild/R/R/bin/R CMD build --keep-empty-dirs --no-resave-data CytoPipelineGUI StartedAt: 2025-11-21 01:37:39 -0000 (Fri, 21 Nov 2025) EndedAt: 2025-11-21 01:38:38 -0000 (Fri, 21 Nov 2025) EllapsedTime: 59.0 seconds RetCode: 0 Status: OK PackageFile: CytoPipelineGUI_1.8.0.tar.gz PackageFileSize: 1.189 MiB