Package: CytoPipeline Version: 1.8.0 Command: /home/biocbuild/bbs-3.21-bioc/R/bin/R CMD build --keep-empty-dirs --no-resave-data CytoPipeline StartedAt: 2025-10-15 17:02:35 -0400 (Wed, 15 Oct 2025) EndedAt: 2025-10-15 17:03:21 -0400 (Wed, 15 Oct 2025) EllapsedTime: 46.0 seconds RetCode: 0 Status: OK PackageFile: CytoPipeline_1.8.0.tar.gz PackageFileSize: 3.187 MiB