Package: CytoPipeline Version: 1.8.0 Command: /Library/Frameworks/R.framework/Resources/bin/R CMD build --keep-empty-dirs --no-resave-data CytoPipeline StartedAt: 2025-04-21 16:28:44 -0400 (Mon, 21 Apr 2025) EndedAt: 2025-04-21 16:29:40 -0400 (Mon, 21 Apr 2025) EllapsedTime: 55.9 seconds RetCode: 0 Status: OK PackageFile: CytoPipeline_1.8.0.tar.gz PackageFileSize: 3.339 MiB