Package: CytoPipeline Version: 1.8.0 Command: /home/biocbuild/R/R/bin/R CMD INSTALL CytoPipeline StartedAt: 2025-05-15 20:48:25 -0000 (Thu, 15 May 2025) EndedAt: 2025-05-15 20:48:46 -0000 (Thu, 15 May 2025) EllapsedTime: 20.9 seconds RetCode: 0 Status: OK