Package: CytoML Version: 2.22.0 Command: /home/biocbuild/R/R/bin/R CMD INSTALL CytoML StartedAt: 2025-11-20 22:26:02 -0000 (Thu, 20 Nov 2025) EndedAt: 2025-11-20 22:27:26 -0000 (Thu, 20 Nov 2025) EllapsedTime: 83.1 seconds RetCode: 0 Status: OK