Package: CytoML Version: 2.22.0 Command: /home/biocbuild/R/R/bin/R CMD build --keep-empty-dirs --no-resave-data CytoML StartedAt: 2025-11-21 01:37:28 -0000 (Fri, 21 Nov 2025) EndedAt: 2025-11-21 01:39:41 -0000 (Fri, 21 Nov 2025) EllapsedTime: 133.1 seconds RetCode: 0 Status: OK PackageFile: CytoML_2.22.0.tar.gz PackageFileSize: 7.868 MiB