Package: CytoML Version: 2.20.0 Command: /home/biocbuild/R/R/bin/R CMD INSTALL CytoML StartedAt: 2025-07-22 03:17:07 -0000 (Tue, 22 Jul 2025) EndedAt: 2025-07-22 03:18:35 -0000 (Tue, 22 Jul 2025) EllapsedTime: 87.7 seconds RetCode: 0 Status: OK