Package: CytoMDS Version: 1.4.0 Command: /home/biocbuild/R/R/bin/R CMD check --install=check:CytoMDS.install-out.txt --library=/home/biocbuild/R/R/site-library --no-vignettes --timings CytoMDS_1.4.0.tar.gz StartedAt: 2025-05-09 07:42:16 -0000 (Fri, 09 May 2025) EndedAt: 2025-05-09 07:49:50 -0000 (Fri, 09 May 2025) EllapsedTime: 453.5 seconds RetCode: 0 Status: OK CheckDir: CytoMDS.Rcheck Warnings: 0