Package: CytoMDS Version: 1.2.0 Command: rm -rf CytoMDS.buildbin-libdir && mkdir CytoMDS.buildbin-libdir && /Users/biocbuild/BBS/utils/build-universal.sh CytoMDS_1.2.0.tar.gz /Library/Frameworks/R.framework/Resources/bin/R CytoMDS.buildbin-libdir StartedAt: 2024-11-09 16:45:05 -0500 (Sat, 09 Nov 2024) EndedAt: 2024-11-09 16:45:11 -0500 (Sat, 09 Nov 2024) EllapsedTime: 6.1 seconds RetCode: 0 Status: OK PackageFile: CytoMDS_1.2.0.tgz PackageFileSize: 3.626 MiB