Package: CytoMDS Version: 1.4.0 Command: /Library/Frameworks/R.framework/Resources/bin/R CMD check --install=check:CytoMDS.install-out.txt --library=/Library/Frameworks/R.framework/Resources/library --no-vignettes --timings CytoMDS_1.4.0.tar.gz StartedAt: 2025-05-09 16:46:13 -0400 (Fri, 09 May 2025) EndedAt: 2025-05-09 16:53:12 -0400 (Fri, 09 May 2025) EllapsedTime: 419.9 seconds RetCode: 0 Status: OK CheckDir: CytoMDS.Rcheck Warnings: 0