Package: CytoMDS Version: 1.4.0 Command: /Library/Frameworks/R.framework/Resources/bin/R CMD build --keep-empty-dirs --no-resave-data CytoMDS StartedAt: 2025-05-08 22:10:48 -0400 (Thu, 08 May 2025) EndedAt: 2025-05-08 22:14:25 -0400 (Thu, 08 May 2025) EllapsedTime: 216.9 seconds RetCode: 0 Status: OK PackageFile: CytoMDS_1.4.0.tar.gz PackageFileSize: 5.073 MiB