Package: CytoGLMM Version: 1.16.0 Command: /Library/Frameworks/R.framework/Resources/bin/R CMD check --install=check:CytoGLMM.install-out.txt --library=/Library/Frameworks/R.framework/Resources/library --no-vignettes --timings CytoGLMM_1.16.0.tar.gz StartedAt: 2025-04-21 18:55:55 -0400 (Mon, 21 Apr 2025) EndedAt: 2025-04-21 18:56:44 -0400 (Mon, 21 Apr 2025) EllapsedTime: 48.6 seconds RetCode: 0 Status: OK CheckDir: CytoGLMM.Rcheck Warnings: 0