Package: CytoDx Version: 1.26.0 Command: /home/biocbuild/R/R/bin/R CMD INSTALL CytoDx StartedAt: 2025-01-30 20:58:23 -0000 (Thu, 30 Jan 2025) EndedAt: 2025-01-30 20:58:36 -0000 (Thu, 30 Jan 2025) EllapsedTime: 13.4 seconds RetCode: 0 Status: OK