Package: CytoDx Version: 1.28.0 Command: chmod a+r CytoDx -R && E:\biocbuild\bbs-3.21-bioc\R\bin\R.exe CMD build --keep-empty-dirs --no-resave-data CytoDx StartedAt: 2025-08-14 18:21:38 -0400 (Thu, 14 Aug 2025) EndedAt: 2025-08-14 18:22:20 -0400 (Thu, 14 Aug 2025) EllapsedTime: 41.7 seconds RetCode: 0 Status: OK PackageFile: CytoDx_1.28.0.tar.gz PackageFileSize: 662.7 KiB