Package: CytoDx Version: 1.26.0 Command: /Library/Frameworks/R.framework/Resources/bin/R CMD check --install=check:CytoDx.install-out.txt --library=/Library/Frameworks/R.framework/Resources/library --no-vignettes --timings CytoDx_1.26.0.tar.gz StartedAt: 2025-01-03 02:10:55 -0500 (Fri, 03 Jan 2025) EndedAt: 2025-01-03 02:17:32 -0500 (Fri, 03 Jan 2025) EllapsedTime: 397.0 seconds RetCode: 0 Status: OK CheckDir: CytoDx.Rcheck Warnings: 0