Package: CyTOFpower Version: 1.14.0 Maintainer: Anne-Maud Ferreira MaintainerEmail: anne-maud.ferreira at stanford.edu git_url: https://git.bioconductor.org/packages/CyTOFpower git_branch: RELEASE_3_21 git_last_commit: bcdfa4b git_last_commit_date: 2025-04-15 12:41:11 -0400 (Tue, 15 Apr 2025)