Package: CrispRVariants Version: 1.38.0 Command: rm -rf CrispRVariants.buildbin-libdir && mkdir CrispRVariants.buildbin-libdir && /Users/biocbuild/BBS/utils/build-universal.sh CrispRVariants_1.38.0.tar.gz /Library/Frameworks/R.framework/Resources/bin/R CrispRVariants.buildbin-libdir StartedAt: 2025-11-04 01:34:58 -0500 (Tue, 04 Nov 2025) EndedAt: 2025-11-04 01:36:03 -0500 (Tue, 04 Nov 2025) EllapsedTime: 65.2 seconds RetCode: 0 Status: OK PackageFile: CrispRVariants_1.38.0.tgz PackageFileSize: 3.94 MiB