Package: CrispRVariants Version: 1.36.0 Command: /Library/Frameworks/R.framework/Resources/bin/R CMD INSTALL CrispRVariants StartedAt: 2025-04-21 15:15:32 -0400 (Mon, 21 Apr 2025) EndedAt: 2025-04-21 15:15:50 -0400 (Mon, 21 Apr 2025) EllapsedTime: 18.1 seconds RetCode: 0 Status: OK