Package: CrispRVariants Version: 1.36.0 Command: /Library/Frameworks/R.framework/Resources/bin/R CMD check --install=check:CrispRVariants.install-out.txt --library=/Library/Frameworks/R.framework/Resources/library --no-vignettes --timings CrispRVariants_1.36.0.tar.gz StartedAt: 2025-04-21 18:50:51 -0400 (Mon, 21 Apr 2025) EndedAt: 2025-04-21 18:52:48 -0400 (Mon, 21 Apr 2025) EllapsedTime: 117.3 seconds RetCode: 0 Status: WARNINGS CheckDir: CrispRVariants.Rcheck Warnings: 2