Package: CrispRVariants Version: 1.36.0 Maintainer: Helen Lindsay MaintainerEmail: helen.lindsay at chuv.ch git_url: https://git.bioconductor.org/packages/CrispRVariants git_branch: RELEASE_3_21 git_last_commit: f45817d git_last_commit_date: 2025-04-15 10:57:18 -0400 (Tue, 15 Apr 2025)