Package: CoverageView Version: 1.46.0 Command: rm -rf CoverageView.buildbin-libdir && mkdir CoverageView.buildbin-libdir && /Users/biocbuild/BBS/utils/build-universal.sh CoverageView_1.46.0.tar.gz /Library/Frameworks/R.framework/Resources/bin/R CoverageView.buildbin-libdir StartedAt: 2025-05-16 12:26:41 -0400 (Fri, 16 May 2025) EndedAt: 2025-05-16 12:27:52 -0400 (Fri, 16 May 2025) EllapsedTime: 71.3 seconds RetCode: 0 Status: OK PackageFile: CoverageView_1.46.0.tgz PackageFileSize: 2.959 MiB