Package: CoverageView Version: 1.46.0 Command: /home/biocbuild/R/R/bin/R CMD INSTALL CoverageView StartedAt: 2025-04-21 20:41:19 -0000 (Mon, 21 Apr 2025) EndedAt: 2025-04-21 20:42:04 -0000 (Mon, 21 Apr 2025) EllapsedTime: 44.5 seconds RetCode: 0 Status: OK