Package: CoverageView Version: 1.46.0 Command: /home/biocbuild/R/R/bin/R CMD check --install=check:CoverageView.install-out.txt --library=/home/biocbuild/R/R/site-library --no-vignettes --timings CoverageView_1.46.0.tar.gz StartedAt: 2025-05-06 07:23:42 -0000 (Tue, 06 May 2025) EndedAt: 2025-05-06 07:28:16 -0000 (Tue, 06 May 2025) EllapsedTime: 274.2 seconds RetCode: 0 Status: WARNINGS CheckDir: CoverageView.Rcheck Warnings: 1